

 BEGIN:VCALENDAR
VERSION:2.0
PRODID:-//Astoria Center Of Israel - ECPv6.15.18//NONSGML v1.0//EN
CALSCALE:GREGORIAN
METHOD:PUBLISH
X-WR-CALNAME:Astoria Center Of Israel
X-ORIGINAL-URL:https://astoriacenter.org
X-WR-CALDESC:Events for Astoria Center Of Israel
REFRESH-INTERVAL;VALUE=DURATION:PT1H
X-Robots-Tag:noindex
X-PUBLISHED-TTL:PT1H
BEGIN:VTIMEZONE
TZID:America/New_York
BEGIN:DAYLIGHT
TZOFFSETFROM:-0500
TZOFFSETTO:-0400
TZNAME:EDT
DTSTART:20230312T070000
END:DAYLIGHT
BEGIN:STANDARD
TZOFFSETFROM:-0400
TZOFFSETTO:-0500
TZNAME:EST
DTSTART:20231105T060000
END:STANDARD
BEGIN:DAYLIGHT
TZOFFSETFROM:-0500
TZOFFSETTO:-0400
TZNAME:EDT
DTSTART:20240310T070000
END:DAYLIGHT
BEGIN:STANDARD
TZOFFSETFROM:-0400
TZOFFSETTO:-0500
TZNAME:EST
DTSTART:20241103T060000
END:STANDARD
BEGIN:DAYLIGHT
TZOFFSETFROM:-0500
TZOFFSETTO:-0400
TZNAME:EDT
DTSTART:20250309T070000
END:DAYLIGHT
BEGIN:STANDARD
TZOFFSETFROM:-0400
TZOFFSETTO:-0500
TZNAME:EST
DTSTART:20251102T060000
END:STANDARD
BEGIN:DAYLIGHT
TZOFFSETFROM:-0500
TZOFFSETTO:-0400
TZNAME:EDT
DTSTART:20260308T070000
END:DAYLIGHT
BEGIN:STANDARD
TZOFFSETFROM:-0400
TZOFFSETTO:-0500
TZNAME:EST
DTSTART:20261101T060000
END:STANDARD
BEGIN:DAYLIGHT
TZOFFSETFROM:-0500
TZOFFSETTO:-0400
TZNAME:EDT
DTSTART:20270314T070000
END:DAYLIGHT
BEGIN:STANDARD
TZOFFSETFROM:-0400
TZOFFSETTO:-0500
TZNAME:EST
DTSTART:20271107T060000
END:STANDARD
END:VTIMEZONE
BEGIN:VEVENT
DTSTART;TZID=America/New_York:20260207T100000
DTEND;TZID=America/New_York:20260207T120000
DTSTAMP:20260419T104036
CREATED:20250926T131153Z
LAST-MODIFIED:20250926T131154Z
UID:10005565-1770458400-1770465600@astoriacenter.org
SUMMARY:Shabbat Services
DESCRIPTION:
URL:https://astoriacenter.org/event/shabbat-services-3-2/2026-02-07/
CATEGORIES:Shabbat Services
END:VEVENT
BEGIN:VEVENT
DTSTART;TZID=America/New_York:20260131T100000
DTEND;TZID=America/New_York:20260131T120000
DTSTAMP:20260419T104036
CREATED:20250926T131153Z
LAST-MODIFIED:20250926T131154Z
UID:10005564-1769853600-1769860800@astoriacenter.org
SUMMARY:Shabbat Services
DESCRIPTION:
URL:https://astoriacenter.org/event/shabbat-services-3-2/2026-01-31/
CATEGORIES:Shabbat Services
END:VEVENT
BEGIN:VEVENT
DTSTART;TZID=America/New_York:20260124T100000
DTEND;TZID=America/New_York:20260124T120000
DTSTAMP:20260419T104036
CREATED:20250926T131153Z
LAST-MODIFIED:20250926T131154Z
UID:10005563-1769248800-1769256000@astoriacenter.org
SUMMARY:Shabbat Services
DESCRIPTION:
URL:https://astoriacenter.org/event/shabbat-services-3-2/2026-01-24/
CATEGORIES:Shabbat Services
END:VEVENT
BEGIN:VEVENT
DTSTART;TZID=America/New_York:20260117T100000
DTEND;TZID=America/New_York:20260117T120000
DTSTAMP:20260419T104036
CREATED:20250926T131153Z
LAST-MODIFIED:20250926T131154Z
UID:10005562-1768644000-1768651200@astoriacenter.org
SUMMARY:Shabbat Services
DESCRIPTION:
URL:https://astoriacenter.org/event/shabbat-services-3-2/2026-01-17/
CATEGORIES:Shabbat Services
END:VEVENT
BEGIN:VEVENT
DTSTART;TZID=America/New_York:20260110T100000
DTEND;TZID=America/New_York:20260110T120000
DTSTAMP:20260419T104036
CREATED:20250926T131153Z
LAST-MODIFIED:20250926T131154Z
UID:10005561-1768039200-1768046400@astoriacenter.org
SUMMARY:Shabbat Services
DESCRIPTION:
URL:https://astoriacenter.org/event/shabbat-services-3-2/2026-01-10/
CATEGORIES:Shabbat Services
END:VEVENT
BEGIN:VEVENT
DTSTART;TZID=America/New_York:20260103T100000
DTEND;TZID=America/New_York:20260103T120000
DTSTAMP:20260419T104036
CREATED:20250926T131153Z
LAST-MODIFIED:20250926T131154Z
UID:10005560-1767434400-1767441600@astoriacenter.org
SUMMARY:Shabbat Services
DESCRIPTION:
URL:https://astoriacenter.org/event/shabbat-services-3-2/2026-01-03/
CATEGORIES:Shabbat Services
END:VEVENT
BEGIN:VEVENT
DTSTART;TZID=America/New_York:20251227T100000
DTEND;TZID=America/New_York:20251227T120000
DTSTAMP:20260419T104036
CREATED:20250926T131153Z
LAST-MODIFIED:20250926T131154Z
UID:10005559-1766829600-1766836800@astoriacenter.org
SUMMARY:Shabbat Services
DESCRIPTION:
URL:https://astoriacenter.org/event/shabbat-services-3-2/2025-12-27/
CATEGORIES:Shabbat Services
END:VEVENT
BEGIN:VEVENT
DTSTART;TZID=America/New_York:20251220T100000
DTEND;TZID=America/New_York:20251220T120000
DTSTAMP:20260419T104036
CREATED:20250926T131153Z
LAST-MODIFIED:20250926T131154Z
UID:10005558-1766224800-1766232000@astoriacenter.org
SUMMARY:Shabbat Services
DESCRIPTION:
URL:https://astoriacenter.org/event/shabbat-services-3-2/2025-12-20/
CATEGORIES:Shabbat Services
END:VEVENT
BEGIN:VEVENT
DTSTART;TZID=America/New_York:20251213T100000
DTEND;TZID=America/New_York:20251213T120000
DTSTAMP:20260419T104036
CREATED:20250926T131153Z
LAST-MODIFIED:20250926T131154Z
UID:10005557-1765620000-1765627200@astoriacenter.org
SUMMARY:Shabbat Services
DESCRIPTION:
URL:https://astoriacenter.org/event/shabbat-services-3-2/2025-12-13/
CATEGORIES:Shabbat Services
END:VEVENT
BEGIN:VEVENT
DTSTART;TZID=America/New_York:20251206T100000
DTEND;TZID=America/New_York:20251206T120000
DTSTAMP:20260419T104036
CREATED:20250926T131153Z
LAST-MODIFIED:20250926T131154Z
UID:10005556-1765015200-1765022400@astoriacenter.org
SUMMARY:Shabbat Services
DESCRIPTION:
URL:https://astoriacenter.org/event/shabbat-services-3-2/2025-12-06/
CATEGORIES:Shabbat Services
END:VEVENT
BEGIN:VEVENT
DTSTART;TZID=America/New_York:20251129T100000
DTEND;TZID=America/New_York:20251129T120000
DTSTAMP:20260419T104036
CREATED:20250926T131153Z
LAST-MODIFIED:20250926T131154Z
UID:10005555-1764410400-1764417600@astoriacenter.org
SUMMARY:Shabbat Services
DESCRIPTION:
URL:https://astoriacenter.org/event/shabbat-services-3-2/2025-11-29/
CATEGORIES:Shabbat Services
END:VEVENT
BEGIN:VEVENT
DTSTART;TZID=America/New_York:20251122T100000
DTEND;TZID=America/New_York:20251122T120000
DTSTAMP:20260419T104036
CREATED:20250926T131153Z
LAST-MODIFIED:20250926T131154Z
UID:10005554-1763805600-1763812800@astoriacenter.org
SUMMARY:Shabbat Services
DESCRIPTION:
URL:https://astoriacenter.org/event/shabbat-services-3-2/2025-11-22/
CATEGORIES:Shabbat Services
END:VEVENT
BEGIN:VEVENT
DTSTART;TZID=America/New_York:20251115T100000
DTEND;TZID=America/New_York:20251115T120000
DTSTAMP:20260419T104036
CREATED:20250926T131153Z
LAST-MODIFIED:20250926T131154Z
UID:10005553-1763200800-1763208000@astoriacenter.org
SUMMARY:Shabbat Services
DESCRIPTION:
URL:https://astoriacenter.org/event/shabbat-services-3-2/2025-11-15/
CATEGORIES:Shabbat Services
END:VEVENT
BEGIN:VEVENT
DTSTART;TZID=America/New_York:20251108T100000
DTEND;TZID=America/New_York:20251108T120000
DTSTAMP:20260419T104036
CREATED:20250926T131153Z
LAST-MODIFIED:20250926T131154Z
UID:10005552-1762596000-1762603200@astoriacenter.org
SUMMARY:Shabbat Services
DESCRIPTION:
URL:https://astoriacenter.org/event/shabbat-services-3-2/2025-11-08/
CATEGORIES:Shabbat Services
END:VEVENT
BEGIN:VEVENT
DTSTART;TZID=America/New_York:20251101T100000
DTEND;TZID=America/New_York:20251101T120000
DTSTAMP:20260419T104036
CREATED:20250926T131153Z
LAST-MODIFIED:20250926T131154Z
UID:10005551-1761991200-1761998400@astoriacenter.org
SUMMARY:Shabbat Services
DESCRIPTION:
URL:https://astoriacenter.org/event/shabbat-services-3-2/2025-11-01/
CATEGORIES:Shabbat Services
END:VEVENT
BEGIN:VEVENT
DTSTART;TZID=America/New_York:20251025T100000
DTEND;TZID=America/New_York:20251025T120000
DTSTAMP:20260419T104036
CREATED:20250926T131153Z
LAST-MODIFIED:20250926T131154Z
UID:10005550-1761386400-1761393600@astoriacenter.org
SUMMARY:Shabbat Services
DESCRIPTION:
URL:https://astoriacenter.org/event/shabbat-services-3-2/2025-10-25/
CATEGORIES:Shabbat Services
END:VEVENT
BEGIN:VEVENT
DTSTART;TZID=America/New_York:20251018T100000
DTEND;TZID=America/New_York:20251018T120000
DTSTAMP:20260419T104036
CREATED:20250926T131153Z
LAST-MODIFIED:20250926T131154Z
UID:10005549-1760781600-1760788800@astoriacenter.org
SUMMARY:Shabbat Services
DESCRIPTION:
URL:https://astoriacenter.org/event/shabbat-services-3-2/2025-10-18/
CATEGORIES:Shabbat Services
END:VEVENT
BEGIN:VEVENT
DTSTART;TZID=America/New_York:20251011T100000
DTEND;TZID=America/New_York:20251011T120000
DTSTAMP:20260419T104036
CREATED:20251001T054929Z
LAST-MODIFIED:20251001T054931Z
UID:10005548-1760176800-1760184000@astoriacenter.org
SUMMARY:Shabbat Services & Meat Kiddush
DESCRIPTION:You will not want to miss this! Join us for Kiddush in the Sukkah following Shabbat Services and enjoy some of Rabbi Josh’s famous Cholent as a special treat. Please feel free to bring a Pareve item to share in the Sukkah for Kiddush. Rabbi Josh will be preparing cholent at ACI overnight for a hot Shabbat lunch.
URL:https://astoriacenter.org/event/shabbat-services-3-2-2/
CATEGORIES:Shabbat Services
END:VEVENT
BEGIN:VEVENT
DTSTART;TZID=America/New_York:20251004T100000
DTEND;TZID=America/New_York:20251004T120000
DTSTAMP:20260419T104037
CREATED:20250926T131153Z
LAST-MODIFIED:20250926T131154Z
UID:10005547-1759572000-1759579200@astoriacenter.org
SUMMARY:Shabbat Services
DESCRIPTION:
URL:https://astoriacenter.org/event/shabbat-services-3-2/2025-10-04/
CATEGORIES:Shabbat Services
END:VEVENT
BEGIN:VEVENT
DTSTART;TZID=America/New_York:20250927T100000
DTEND;TZID=America/New_York:20250927T120000
DTSTAMP:20260419T104037
CREATED:20250926T131153Z
LAST-MODIFIED:20250926T131154Z
UID:10005492-1758967200-1758974400@astoriacenter.org
SUMMARY:Shabbat Services
DESCRIPTION:
URL:https://astoriacenter.org/event/shabbat-services-3-2/2025-09-27/
CATEGORIES:Shabbat Services
END:VEVENT
BEGIN:VEVENT
DTSTART;TZID=America/New_York:20250718T180000
DTEND;TZID=America/New_York:20250718T200000
DTSTAMP:20260419T104037
CREATED:20250613T020454Z
LAST-MODIFIED:20250613T020454Z
UID:10005486-1752861600-1752868800@astoriacenter.org
SUMMARY:Kabbalat Shabbat and Potluck Dinner in Astoria Park
DESCRIPTION:
URL:https://astoriacenter.org/event/kabbalat-shabbat-and-potluck-dinner-in-astoria-park/2025-07-18/
CATEGORIES:Shabbat Services
END:VEVENT
BEGIN:VEVENT
DTSTART;TZID=America/New_York:20250711T180000
DTEND;TZID=America/New_York:20250711T200000
DTSTAMP:20260419T104037
CREATED:20250613T020454Z
LAST-MODIFIED:20250613T020454Z
UID:10005485-1752256800-1752264000@astoriacenter.org
SUMMARY:Kabbalat Shabbat and Potluck Dinner in Astoria Park
DESCRIPTION:
URL:https://astoriacenter.org/event/kabbalat-shabbat-and-potluck-dinner-in-astoria-park/2025-07-11/
CATEGORIES:Shabbat Services
END:VEVENT
BEGIN:VEVENT
DTSTART;TZID=America/New_York:20250620T190000
DTEND;TZID=America/New_York:20250620T210000
DTSTAMP:20260419T104037
CREATED:20250613T020026Z
LAST-MODIFIED:20250613T020026Z
UID:10005428-1750446000-1750453200@astoriacenter.org
SUMMARY:Journal Service Honoring Ari Gershon & Litza Stark
DESCRIPTION:
URL:https://astoriacenter.org/event/journal-service-honoring-ari-gershon-litza-stark/
CATEGORIES:Shabbat Services
END:VEVENT
BEGIN:VEVENT
DTSTART;TZID=America/New_York:20241201T100000
DTEND;TZID=America/New_York:20241201T120000
DTSTAMP:20260419T104037
CREATED:20241126T050422Z
LAST-MODIFIED:20241126T050423Z
UID:10005256-1733047200-1733054400@astoriacenter.org
SUMMARY:NO Shabbat Service
DESCRIPTION:
URL:https://astoriacenter.org/event/shabbat-service-2/
CATEGORIES:Shabbat Services
END:VEVENT
BEGIN:VEVENT
DTSTART;TZID=America/New_York:20241124T100000
DTEND;TZID=America/New_York:20241124T120000
DTSTAMP:20260419T104037
CREATED:20240925T004540Z
LAST-MODIFIED:20240925T004540Z
UID:10005255-1732442400-1732449600@astoriacenter.org
SUMMARY:Shabbat Service
DESCRIPTION:
URL:https://astoriacenter.org/event/shabbat-service/2024-11-24/
CATEGORIES:Shabbat Services
END:VEVENT
BEGIN:VEVENT
DTSTART;TZID=America/New_York:20241117T100000
DTEND;TZID=America/New_York:20241117T120000
DTSTAMP:20260419T104037
CREATED:20240925T004540Z
LAST-MODIFIED:20240925T004540Z
UID:10005254-1731837600-1731844800@astoriacenter.org
SUMMARY:Shabbat Service
DESCRIPTION:
URL:https://astoriacenter.org/event/shabbat-service/2024-11-17/
CATEGORIES:Shabbat Services
END:VEVENT
BEGIN:VEVENT
DTSTART;TZID=America/New_York:20241110T100000
DTEND;TZID=America/New_York:20241110T120000
DTSTAMP:20260419T104037
CREATED:20240925T004540Z
LAST-MODIFIED:20240925T004540Z
UID:10005253-1731232800-1731240000@astoriacenter.org
SUMMARY:Shabbat Service
DESCRIPTION:
URL:https://astoriacenter.org/event/shabbat-service/2024-11-10/
CATEGORIES:Shabbat Services
END:VEVENT
BEGIN:VEVENT
DTSTART;TZID=America/New_York:20241103T100000
DTEND;TZID=America/New_York:20241103T120000
DTSTAMP:20260419T104037
CREATED:20240925T004540Z
LAST-MODIFIED:20240925T004540Z
UID:10005252-1730628000-1730635200@astoriacenter.org
SUMMARY:Shabbat Service
DESCRIPTION:
URL:https://astoriacenter.org/event/shabbat-service/2024-11-03/
CATEGORIES:Shabbat Services
END:VEVENT
BEGIN:VEVENT
DTSTART;TZID=America/New_York:20241027T100000
DTEND;TZID=America/New_York:20241027T120000
DTSTAMP:20260419T104037
CREATED:20240925T004540Z
LAST-MODIFIED:20240925T004540Z
UID:10005251-1730023200-1730030400@astoriacenter.org
SUMMARY:Shabbat Service
DESCRIPTION:
URL:https://astoriacenter.org/event/shabbat-service/2024-10-27/
CATEGORIES:Shabbat Services
END:VEVENT
BEGIN:VEVENT
DTSTART;TZID=America/New_York:20241020T100000
DTEND;TZID=America/New_York:20241020T120000
DTSTAMP:20260419T104037
CREATED:20240925T004540Z
LAST-MODIFIED:20240925T004540Z
UID:10005250-1729418400-1729425600@astoriacenter.org
SUMMARY:Shabbat Service
DESCRIPTION:
URL:https://astoriacenter.org/event/shabbat-service/2024-10-20/
CATEGORIES:Shabbat Services
END:VEVENT
END:VCALENDAR